BEGIN:VCALENDAR
VERSION:2.0
PRODID:-//hacksw/handcal//NONSGML v1.0//EN
BEGIN:VEVENT
X-WR-TIMEZONE:Europe/Paris
DTSTART:20210916T020000Z
DTEND:20210916T020000Z
SUMMARY:LES RENDEZ-VOUS D&rsquo;AFFAIRES d&rsquo;EBP INFORMATIQUE
LOCATION:Palais des Congrès à Versailles
DESCRIPTION:EBP réunit ses partenaires pour renforcer l’accompagnement des PME. Le Groupe EBP organise “les rendez-vous d’affaires” le 16 septembre 2021 au Palais des Congrès à Versailles avec ses partenaires certifiés. L’occasion pour l’éditeur de solutions de gestion, de remettre les Trophées de l’année 2020 à ses meilleurs intégrateurs. “Les rendez-vous d’affaires” organisés par le Groupe [&hellip;]
END:VEVENT
END:VCALENDAR
